BEGIN:VCALENDAR
VERSION:2.0
PRODID:-//Lapin Vihreät - ECPv6.15.20//NONSGML v1.0//EN
CALSCALE:GREGORIAN
METHOD:PUBLISH
X-WR-CALNAME:Lapin Vihreät
X-ORIGINAL-URL:https://lapinvihreat.fi
X-WR-CALDESC:Tapahtumat Lapin Vihreät
REFRESH-INTERVAL;VALUE=DURATION:PT1H
X-Robots-Tag:noindex
X-PUBLISHED-TTL:PT1H
BEGIN:VTIMEZONE
TZID:Europe/Helsinki
BEGIN:DAYLIGHT
TZOFFSETFROM:+0200
TZOFFSETTO:+0300
TZNAME:EEST
DTSTART:20130331T010000
END:DAYLIGHT
BEGIN:STANDARD
TZOFFSETFROM:+0300
TZOFFSETTO:+0200
TZNAME:EET
DTSTART:20131027T010000
END:STANDARD
BEGIN:DAYLIGHT
TZOFFSETFROM:+0200
TZOFFSETTO:+0300
TZNAME:EEST
DTSTART:20140330T010000
END:DAYLIGHT
BEGIN:STANDARD
TZOFFSETFROM:+0300
TZOFFSETTO:+0200
TZNAME:EET
DTSTART:20141026T010000
END:STANDARD
BEGIN:DAYLIGHT
TZOFFSETFROM:+0200
TZOFFSETTO:+0300
TZNAME:EEST
DTSTART:20150329T010000
END:DAYLIGHT
BEGIN:STANDARD
TZOFFSETFROM:+0300
TZOFFSETTO:+0200
TZNAME:EET
DTSTART:20151025T010000
END:STANDARD
BEGIN:DAYLIGHT
TZOFFSETFROM:+0200
TZOFFSETTO:+0300
TZNAME:EEST
DTSTART:20160327T010000
END:DAYLIGHT
BEGIN:STANDARD
TZOFFSETFROM:+0300
TZOFFSETTO:+0200
TZNAME:EET
DTSTART:20161030T010000
END:STANDARD
BEGIN:DAYLIGHT
TZOFFSETFROM:+0200
TZOFFSETTO:+0300
TZNAME:EEST
DTSTART:20170326T010000
END:DAYLIGHT
BEGIN:STANDARD
TZOFFSETFROM:+0300
TZOFFSETTO:+0200
TZNAME:EET
DTSTART:20171029T010000
END:STANDARD
BEGIN:DAYLIGHT
TZOFFSETFROM:+0200
TZOFFSETTO:+0300
TZNAME:EEST
DTSTART:20180325T010000
END:DAYLIGHT
BEGIN:STANDARD
TZOFFSETFROM:+0300
TZOFFSETTO:+0200
TZNAME:EET
DTSTART:20181028T010000
END:STANDARD
BEGIN:DAYLIGHT
TZOFFSETFROM:+0200
TZOFFSETTO:+0300
TZNAME:EEST
DTSTART:20190331T010000
END:DAYLIGHT
BEGIN:STANDARD
TZOFFSETFROM:+0300
TZOFFSETTO:+0200
TZNAME:EET
DTSTART:20191027T010000
END:STANDARD
END:VTIMEZONE
BEGIN:VEVENT
DTSTART;TZID=Europe/Helsinki:20180324T110000
DTEND;TZID=Europe/Helsinki:20180324T130000
DTSTAMP:20260424T230212
CREATED:20180206T144217Z
LAST-MODIFIED:20191230T083925Z
UID:26252-1521889200-1521896400@lapinvihreat.fi
SUMMARY:23.1. Vieraana kansanedustaja Saara Hyrkkö: Mielenterveys-teemapäivä\, Lapin Yliopisto
DESCRIPTION:[et_pb_section fb_built=”1″ admin_label=”section” _builder_version=”3.22″][et_pb_row admin_label=”row” _builder_version=”3.25″ background_size=”initial” background_position=”top_left” background_repeat=”repeat”][et_pb_column type=”4_4″ _builder_version=”3.25″ custom_padding=”|||” custom_padding__hover=”|||”][et_pb_text admin_label=”Text” _builder_version=”3.27.4″ background_size=”initial” background_position=”top_left” background_repeat=”repeat” min_height=”99px” custom_padding=”||0px|||”]LaVin kevätkokous pidetään Kemissä. Kokouspaikka ilmoitetaan myöhemmin.[/et_pb_text][/et_pb_column][/et_pb_row][/et_pb_section]
URL:https://lapinvihreat.fi/event/lapin-vihreiden-kevatkokous/
ATTACH;FMTTYPE=image/png:https://lapinvihreat.fi/content/uploads/2019/12/Screenshot-2019-12-30-10.37.37.png
END:VEVENT
BEGIN:VEVENT
DTSTART;TZID=Europe/Helsinki:20171125T110000
DTEND;TZID=Europe/Helsinki:20171125T130000
DTSTAMP:20260424T230212
CREATED:20171108T142109Z
LAST-MODIFIED:20171108T142343Z
UID:26222-1511607600-1511614800@lapinvihreat.fi
SUMMARY:Lapin Vihreiden syyskokous Kolarissa
DESCRIPTION:Piirin sääntömääräinen syyskokous pidetään Kolarin kunnan valtuustosalissa \nTiedustelut piirin toiminnanjohtajalta Tarja Pasmalta puh. 045 138 3991
URL:https://lapinvihreat.fi/event/lapin-vihreiden-syyskokous-kolarissa/
END:VEVENT
BEGIN:VEVENT
DTSTART;TZID=Europe/Helsinki:20161007T080000
DTEND;TZID=Europe/Helsinki:20161007T170000
DTSTAMP:20260424T230212
CREATED:20160919T172114Z
LAST-MODIFIED:20161007T172200Z
UID:773-1475827200-1475859600@lapinvihreat.fi
SUMMARY:"Huominen ilman pelkoa" -tapahtuma Rovaniemellä Sampokeskuksessa lauantaina 24.9. klo 12:30
DESCRIPTION:Tämän viikon lauantaina 24.9. järjestetään ”Huominen ilman pelkoa – järjestäytynyt rasismi rikoslakiin” -kampanjan tapahtuma Sampokeskuksessa klo 12.30-14.00. Tule osoittamaan kampanjalle tukesi sekä allekirjoittamaan kampanjan vetoomus\, jonka on allekirjoittanut jo yli 30.000 suomalaista. Tilaisuudessa on lyhyet puheenvuorot antamassa kampanjan perustajat\, vihreiden nuorten puheenjohtajat Jaakko Mustakallio ja Saara Ilvessalo. \nHuominen ilman pelkoa on puoluepoliittisesti sitoutumaton kansalaiskampanja\, jonka tavoitteena on saattaa järjestäytynyt rasismi rikoslakiin yli 100 kansanedustajan allekirjoittamalla lakialoitteella. Kampanja kerää allekirjoituksia vetoomukseen\, joka luovutetaan kansanedustajille lokakuussa. \nPaikka: Sampokeskuksen ala-aula\nAika: 24.9. klo 12:30-14:00 \nHuominen ilman pelkoa – järjestäytynyt rasismi rikoslakiin \n\nhttps://www.facebook.com/huominenilmanpelkoa
URL:https://lapinvihreat.fi/event/huominen-ilman-pelkoa-tapahtuma-rovaniemella-sampokeskuksessa-lauantaina-24-9-klo-1230/
ATTACH;FMTTYPE=image/png:https://lapinvihreat.fi/content/uploads/2016/09/rasismikamppis_squarelogo-e1475860748934.png
END:VEVENT
BEGIN:VEVENT
DTSTART;TZID=Europe/Helsinki:20161007T080000
DTEND;TZID=Europe/Helsinki:20161007T170000
DTSTAMP:20260424T230212
CREATED:20160919T171003Z
LAST-MODIFIED:20161007T171935Z
UID:765-1475827200-1475859600@lapinvihreat.fi
SUMMARY:"Huominen ilman pelkoa" -tapahtuma Rovaniemellä ampokeskuksessa lauantaina 24.9. klo 12:30
DESCRIPTION:Tämän viikon lauantaina 24.9. järjestetään ”Huominen ilman pelkoa – järjestäytynyt rasismi rikoslakiin” -kampanjan tapahtuma Sampokeskuksessa klo 12.30-14.00. Tule osoittamaan kampanjalle tukesi sekä allekirjoittamaan kampanjan vetoomus\, jonka on allekirjoittanut jo yli 30.000 suomalaista. Tilaisuudessa on lyhyet puheenvuorot antamassa kampanjan perustajat\, vihreiden nuorten puheenjohtajat Jaakko Mustakallio ja Saara Ilvessalo. \nHuominen ilman pelkoa on puoluepoliittisesti sitoutumaton kansalaiskampanja\, jonka tavoitteena on saattaa järjestäytynyt rasismi rikoslakiin yli 100 kansanedustajan allekirjoittamalla lakialoitteella. Kampanja kerää allekirjoituksia vetoomukseen\, joka luovutetaan kansanedustajille lokakuussa. \nPaikka: Sampokeskuksen ala-aula\nAika: 24.9. klo 12:30-14:00 \nHuominen ilman pelkoa – järjestäytynyt rasismi rikoslakiin \n\nhttps://www.facebook.com/huominenilmanpelkoa
URL:https://lapinvihreat.fi/event/huominen-ilman-pelkoa-tapahtuma-rovaniemella-ampokeskuksessa-lauantaina-24-9-klo-1230/
ATTACH;FMTTYPE=image/png:https://lapinvihreat.fi/content/uploads/2016/09/rasismikamppis_squarelogo-e1475860748934.png
END:VEVENT
BEGIN:VEVENT
DTSTART;TZID=Europe/Helsinki:20150904T100000
DTEND;TZID=Europe/Helsinki:20150913T160000
DTSTAMP:20260424T230212
CREATED:20150903T095015Z
LAST-MODIFIED:20150903T095015Z
UID:676-1441360800-1442160000@lapinvihreat.fi
SUMMARY:#climatemoment - naali tulee Lappiin!
DESCRIPTION:Joulukuussa 2015 Pariisissa pidetään kansainväliset ilmastoneuvottelut. Pariisia silmällä pitäen Euroopan vihreiden ilmastokampanja #climatemoment on polkaistu käyntiin myös Suomessa ja nyt Lapissa – osallistumisesi on helppoa ja tärkeää! \nMikä on sinulle se hetki\, jona ymmärsit että ilmastolla on väliä? Että ilmastonmuutosta on torjuttava? Jaa hetkesi somessa käyttämällä tunnusta #climatemoment ja kannusta muitakin tekemään niin! \n#climatemoment -symboli on kotoinen ja äärimmäisen uhanalainen napakettu\, tutummin naali\, joka kiertää seuraavaksi Lappia. \nVarmistuneet tapahtumat: \n4.9. Fuksimessut\, Lapin yliopiston pääaula\, klo 10-14 (Lapin Vihreät Nuoret ja Opiskelijat) \n12.-13.9. Sadonkorjuumarkkinat Pöykkölässä\, Rovaniemellä klo 10-16 (Rovaniemen Vihreät) \nMikäli haluat naalin vierailulle\, niin ota yhteyttä Lapin Vihreiden toiminnanjohtaja Ville Ritolaan ville.ritola (ät) vihreat.fi
URL:https://lapinvihreat.fi/event/climatemoment-naali-tulee-lappiin/
END:VEVENT
BEGIN:VEVENT
DTSTART;TZID=Europe/Helsinki:20150221T150000
DTEND;TZID=Europe/Helsinki:20150221T170000
DTSTAMP:20260424T230212
CREATED:20150210T123044Z
LAST-MODIFIED:20150210T123128Z
UID:500-1424530800-1424538000@lapinvihreat.fi
SUMMARY:Piirin ylimääräinen jäsenkokous
DESCRIPTION:Tervetuloa Lapin Vihreiden piirin ylimääräiseen jäsenkokoukseen Rovaniemelle lauantaina 21.2. klo 15 alkaen. Kokouspaikkana toimii kahvila Kauppayhtiö (Valtakatu 24)  \nKokouksessa nimetään Lapin Vihreiden uudet ehdokkaat kevään eduskuntavaaleihin!
URL:https://lapinvihreat.fi/event/piirin-ylimaarainen-jasenkokous/
LOCATION:Kauppayhtiö\, Rovaniemi
END:VEVENT
BEGIN:VEVENT
DTSTART;TZID=Europe/Helsinki:20140927T090000
DTEND;TZID=Europe/Helsinki:20140928T140000
DTSTAMP:20260424T230212
CREATED:20140925T161238Z
LAST-MODIFIED:20140925T161238Z
UID:413-1411808400-1411912800@lapinvihreat.fi
SUMMARY:Piiripäivät Inarissa 27.9.-28.9.
DESCRIPTION:Tervetuloa Lapin Vihreiden perinteisille piiripäiville1\n\nPiiripäivät järjestetään tänä vuonna Inarissa 27.9.-28.9. Osallistuminen on maksutonta ja se sisältää sekä majoituksen että ruokailut (kasvis). Lauantaina aamukahvit pienine tarjoiluileen\, lounas ja iltaruoka\, sunnuntaina tarjolla on runsaampi brunssi-tyylinen aamiainen.\n\nTapahtumapaikkana on Turun kaupungin omistama Nukkumajoen leirikämppä. Kämpässä on keittiö\, tupa ja 4 majoitushuonetta\, joissa on pedit 30 hengelle\, sekä puulämmitteinen sauna ja ulkokäymälä. http://www.turku.fi/public/default.aspx?contentid=28571\n\nAjo-ohjeet:\n\nIvalo-Inari -valtatietä pohjoiseen 5 km ennen Inarin kirkonkylää kääntyy vasemmalle Nukkumajoentie\, joka on merkattu kyltillä. Tietä jatketaan valtatieltä n. 5 km ja ollaan perillä Nukkumajoen leirikämpällä.\n\nOHJELMA\n\nLAUANTAINA 27.9. varsinainen ohjelma klo 10-17\n\n10:00 - 13:30 Piirin kokous\n- Kokouksessa julkaistaan sekä Vihreä Lappi-ohjelma että kuumeisesti odotetut ensimmäiset eduskuntavaaliehdokkaat\n- Ennen varsinaisen kokouksen alkua pöytään on katettu kahvia ja pientä syötävää.\n\n13:30 - 15:00 lounastauko\n- Lounaaksi tarjotaan maittavaa kasvisruokaa\n\n15:00 - 17:00 Kansanedustaja Satu Haapasen julkinen tilaisuus Inarin kirkonkylällä ravitsemusliike PaPaNan yläkerrassa (Inarintie 47).\n\nIllalla ruokailu sekä vapaata ohjelmaa ja seurustelua.\n\nSUNNUNTAINA 28.9. ohjelmaa klo 10-14\n\n10:00 - 14:00 Yleinen keskustelutilaisuus paikallisista teemoista\, toiminnasta ja eduskuntavaaleihin valmistautumisesta. Samaan aikaan on tarjolla brunssi-tyylinen runsas aamiainen.\n\nIlmoittautuminen toiminnanjohtajalle sähköpostitse ville.ritola@vihreat.fi
URL:https://lapinvihreat.fi/event/piiripaivat-inarissa-27-9-28-9/
LOCATION:Nukkumajoen kämppä\, Nukkumajoentie\, Inari\, Finland
END:VEVENT
BEGIN:VEVENT
DTSTART;TZID=Europe/Helsinki:20140525T190000
DTEND;TZID=Europe/Helsinki:20140525T190000
DTSTAMP:20260424T230212
CREATED:20140525T095439Z
LAST-MODIFIED:20140525T095439Z
UID:404-1401044400-1401044400@lapinvihreat.fi
SUMMARY:Eurovaalivalvojaiset Pub Uitossa klo 19 alkaen
DESCRIPTION:Ratkaisun hetket ovat käsillä ja järjestämme Rovaniemellä eurovaalivalvojaiset Pub Uitossa klo 19 alkaen (Maakuntakatu 30). \nSaavu paikalle yksin tai kera kaverin jännittämään tulosta!
URL:https://lapinvihreat.fi/event/eurovaalivalvojaiset-pub-uitossa-klo-19-alkaen-2/
END:VEVENT
BEGIN:VEVENT
DTSTART;TZID=Europe/Helsinki:20140525T190000
DTEND;TZID=Europe/Helsinki:20140525T190000
DTSTAMP:20260424T230212
CREATED:20140525T095116Z
LAST-MODIFIED:20140525T095241Z
UID:402-1401044400-1401044400@lapinvihreat.fi
SUMMARY:Eurovaalivalvojaiset Pub Uitossa klo 19 alkaen
DESCRIPTION:Ratkaisun hetket ovat käsillä ja järjestämme Rovaniemellä eurovaalivalvojaiset Pub Uitossa klo 19 alkaen (Maakuntakatu 30). \n  \nSaavu paikalle yksin tai kera kaverin jännittämään tulosta!
URL:https://lapinvihreat.fi/event/eurovaalivalvojaiset-pub-uitossa-klo-19-alkaen/
END:VEVENT
BEGIN:VEVENT
DTSTART;TZID=Europe/Helsinki:20140509T110000
DTEND;TZID=Europe/Helsinki:20140509T140000
DTSTAMP:20260424T230212
CREATED:20140508T150309Z
LAST-MODIFIED:20140508T150353Z
UID:389-1399633200-1399644000@lapinvihreat.fi
SUMMARY:Eurovaaliehdokas Pekka Aikio Torniossa 9.5.
DESCRIPTION:Tule kuulemaan Pekka Aikion (153) näkemyksestä ja kokemuksesta Torniossa kauppakeskus Rajalla – På Gränsen järjestettävässä eurovaalipaneelissa perjantaina 9.5. klo 11-12. Eurovaalipaneelin jälkeen heti klo 12 eteenpäin Pekka on jututettavana ja tavattavissa samaisessa kauppakeskuksessa osoitteessa Länsiranta 10. \n  \nPitkän linjan kansainvälisellä vaikuttajalla Pekka Aikiolla on kokemusta mistä ammentaa; hän on porotutkija\, joka on ollut mukana luomassa saamelaista kulttuuri-itsehallintoa ja toiminut saamelaiskäräjien ensimmäisenä ja pitkäaikaisena puheenjohtajana\, hän on ollut neuvottelemassa alkuperäiskansojen ILO-sopimuksesta sekä toiminut Arktisen neuvoston piirissä edistämässä kestävää kehitystä. \n  \nLisätietoa Pekka Aikiosta hänen ehdokassivuillaan! ja Facebookissa
URL:https://lapinvihreat.fi/event/eurovaaliehdokas-pekka-aikio-torniossa-8-5/
LOCATION:Rajalla – På Gränsen\, Länsiranta 10\, Tornio\, Lappi\, Finland
END:VEVENT
BEGIN:VEVENT
DTSTART;TZID=Europe/Helsinki:20140507T080000
DTEND;TZID=Europe/Helsinki:20140507T170000
DTSTAMP:20260424T230212
CREATED:20140502T210024Z
LAST-MODIFIED:20140507T150614Z
UID:386-1399449600-1399482000@lapinvihreat.fi
SUMMARY:Anni Sinnemäki Rovaniemellä 4.5.
DESCRIPTION:Tule tapaamaan eurovaaliehdokas Anni Sinnemäkeä Lordin aukiolle sunnuntaina 4.5. klo 14 alkaen ja juttelemaan tärkeistä eurovaaliteemoista. \n”Olen ehdolla eurovaaleissa\, koska Euroopan parlamentilla on paljon valtaa niissä asioissa jotka ovat minulle tärkeitä. Ilmastopolitiikassa Suomi ei yksin saa aikaiseksi mitään. Tavoitteita tehdään maailmanlaajuisesti ja euroopanlaajuisesti. Seuraavat kaksi vuotta ovat ilmastonmuutoksen torjumisen kannalta ratkaisevia. Seuraavassa Euroopan parlamentissa pitää olla mahdollisimman paljon niitä\, jotka tunnustavat tieteelliset tosiasiat ja haluavat toimia.” \nLisätietoa Annista ja hänen vaaliteemoistaan löytyy hänen kotisivuiltaan.
URL:https://lapinvihreat.fi/event/anni-sinnemaki-rovaniemella-4-5/
END:VEVENT
END:VCALENDAR